BEGIN:VCALENDAR
VERSION:2.0
PRODID:-//WJIV - ECPv6.15.20//NONSGML v1.0//EN
CALSCALE:GREGORIAN
METHOD:PUBLISH
X-WR-CALNAME:WJIV
X-ORIGINAL-URL:https://wjivradio.com
X-WR-CALDESC:Events for WJIV
REFRESH-INTERVAL;VALUE=DURATION:PT1H
X-Robots-Tag:noindex
X-PUBLISHED-TTL:PT1H
BEGIN:VTIMEZONE
TZID:America/Kentucky/Louisville
BEGIN:DAYLIGHT
TZOFFSETFROM:-0500
TZOFFSETTO:-0400
TZNAME:EDT
DTSTART:20220313T070000
END:DAYLIGHT
BEGIN:STANDARD
TZOFFSETFROM:-0400
TZOFFSETTO:-0500
TZNAME:EST
DTSTART:20221106T060000
END:STANDARD
BEGIN:DAYLIGHT
TZOFFSETFROM:-0500
TZOFFSETTO:-0400
TZNAME:EDT
DTSTART:20230312T070000
END:DAYLIGHT
BEGIN:STANDARD
TZOFFSETFROM:-0400
TZOFFSETTO:-0500
TZNAME:EST
DTSTART:20231105T060000
END:STANDARD
BEGIN:DAYLIGHT
TZOFFSETFROM:-0500
TZOFFSETTO:-0400
TZNAME:EDT
DTSTART:20240310T070000
END:DAYLIGHT
BEGIN:STANDARD
TZOFFSETFROM:-0400
TZOFFSETTO:-0500
TZNAME:EST
DTSTART:20241103T060000
END:STANDARD
END:VTIMEZONE
BEGIN:VEVENT
DTSTART;TZID=America/Kentucky/Louisville:20230401T180000
DTEND;TZID=America/Kentucky/Louisville:20230401T230000
DTSTAMP:20260424T154841
CREATED:20230301T160207Z
LAST-MODIFIED:20230301T160207Z
UID:4439-1680372000-1680390000@wjivradio.com
SUMMARY:The Story Tour
DESCRIPTION:Found & Favored Ministries and Jail Ministry of Otsego and Schoharie Counties present ‘The Story Tour’ at Foothills Performing Arts Center on Saturday\, April 1st. ‘The Story Tour’ is a night of engaging\, entertaining and thought provoking stories that speak a powerful truth: That God is close to the broken hearted and that ‘with Jesus\, your story isn’t over’! The evening features powerful God stories shared through song and video testimonies\, along with compelling teachings and testimonies from our speakers: Suicide survivor and now pastor Travis Habbershon and ex-drug addict Allan Scott. Find more information and to purchase tickets\, visit www.thestorytour.org. We hope to see you there!
URL:https://wjivradio.com/event/the-story-tour/
LOCATION:Foothills Performing Arts Center\, 24 Market Street\, Oneonta\, NY\, 13820\, United States
END:VEVENT
BEGIN:VEVENT
DTSTART;TZID=America/Kentucky/Louisville:20230422T180000
DTEND;TZID=America/Kentucky/Louisville:20230422T230000
DTSTAMP:20260424T154841
CREATED:20230223T171706Z
LAST-MODIFIED:20230223T171706Z
UID:4428-1682186400-1682204400@wjivradio.com
SUMMARY:Award winning Southern Gospel group "The Whisnants"
DESCRIPTION:The Whisnants will be in concert on Saturday April 22 at the South New Milford Baptist Church\, New Milford PA at 7:00pm. Doors open at 6pm. No tickets necessary. A free will offering will be received. Call the church office 570 434 2101 for more information or online at snmbc.org. \n 
URL:https://wjivradio.com/event/award-winning-southern-gospel-group-the-whisnants/
LOCATION:South New Milford Baptist Church\, 2967 Harford Road\, New Milford\, PA\, 18834\, United States
END:VEVENT
END:VCALENDAR