BEGIN:VCALENDAR
VERSION:2.0
PRODID:-//WJIV - ECPv6.15.20//NONSGML v1.0//EN
CALSCALE:GREGORIAN
METHOD:PUBLISH
X-WR-CALNAME:WJIV
X-ORIGINAL-URL:https://wjivradio.com
X-WR-CALDESC:Events for WJIV
REFRESH-INTERVAL;VALUE=DURATION:PT1H
X-Robots-Tag:noindex
X-PUBLISHED-TTL:PT1H
BEGIN:VTIMEZONE
TZID:America/Kentucky/Louisville
BEGIN:DAYLIGHT
TZOFFSETFROM:-0500
TZOFFSETTO:-0400
TZNAME:EDT
DTSTART:20240310T070000
END:DAYLIGHT
BEGIN:STANDARD
TZOFFSETFROM:-0400
TZOFFSETTO:-0500
TZNAME:EST
DTSTART:20241103T060000
END:STANDARD
BEGIN:DAYLIGHT
TZOFFSETFROM:-0500
TZOFFSETTO:-0400
TZNAME:EDT
DTSTART:20250309T070000
END:DAYLIGHT
BEGIN:STANDARD
TZOFFSETFROM:-0400
TZOFFSETTO:-0500
TZNAME:EST
DTSTART:20251102T060000
END:STANDARD
BEGIN:DAYLIGHT
TZOFFSETFROM:-0500
TZOFFSETTO:-0400
TZNAME:EDT
DTSTART:20260308T070000
END:DAYLIGHT
BEGIN:STANDARD
TZOFFSETFROM:-0400
TZOFFSETTO:-0500
TZNAME:EST
DTSTART:20261101T060000
END:STANDARD
END:VTIMEZONE
BEGIN:VEVENT
DTSTART;TZID=America/Kentucky/Louisville:20250222T090000
DTEND;TZID=America/Kentucky/Louisville:20250222T110000
DTSTAMP:20260422T065410
CREATED:20250107T193210Z
LAST-MODIFIED:20250107T193235Z
UID:4632-1740214800-1740222000@wjivradio.com
SUMMARY:Rabies clinic
DESCRIPTION:Montgomery County Health Department is sponsoring a rabies vaccination clinic. The event will be held at the Montgomery County DPW Garage\, 113 Park Drive Fultonville\, NY. Public Health Law requires dogs\, cats and ferrets be vaccinated. Initial vaccination at 3 months of age with a follow-up vaccination 1 year after the first vaccination. Subsequent vaccinations follow on a 3-year schedule. Pet owners revaccinating animals should bring the pets last rabies vaccination certificate. For more information Call Montgomery County Health Department at (518) 853-3531.
URL:https://wjivradio.com/event/rabies-clinic/
LOCATION:NY
END:VEVENT
BEGIN:VEVENT
DTSTART;TZID=America/Kentucky/Louisville:20250226T180000
DTEND;TZID=America/Kentucky/Louisville:20250226T220000
DTSTAMP:20260422T065410
CREATED:20250213T174934Z
LAST-MODIFIED:20250213T174934Z
UID:4645-1740592800-1740607200@wjivradio.com
SUMMARY:Master Gardener Presentation Sponsored By The Unadilla Rotary Club
DESCRIPTION:     Do you have a question about growing a vegetable garden? Do you wish you knew the name of that pesky weed that keeps popping up in your flower bed? Do you wonder where you can find resources and information for your gardening project?  A Master Gardener Volunteer might be able to help you! Join the Unadilla Rotary Club on February 26\, 2025\, at 6 p.m. for an informative program about the Otsego Master Gardener Volunteers. Carol Phelps\, a lifelong gardener\, and Master Gardener Volunteer\, and Cornell Cooperative Extension Schoharie and Otsego Counties Horticulture and Natural Resources Educator\, Marcie Foster\, will present ways the Master Gardeners are doing garden-based education in the community\, and tips and resources for your garden. \n     Master Gardener Volunteers and staff at Cornell Cooperative Extension Schoharie and Otsego Counties (CCESO) are trained to answer residents’ questions about home gardening\, on topics such as soil testing\, growing vegetables\, plant selection\, pruning fruit trees\, common plant diseases\, insect identification\, lawn care\, and more. Master Gardener Volunteers are residents who have completed a horticulture training course and passed a final exam to become certified. They provide unbiased\, research-based information to help people grow healthy gardens and landscapes. \n     This program will be held at the William Bauer Community Center (formerly the Masonic Temple) at 246 Main Street\, Unadilla\, NY. This program is free and open to the public. Registration is not required. For more information about Cornell Cooperative Extension Schoharie and Otsego Counties’ community programs and events\, go to http://cceschoharie-otsego.org or call 607-547-2536 ext. 235 (Otsego County) or 518-234-4303 ext. 124 (Schoharie County).
URL:https://wjivradio.com/event/master-gardener-presentation-sponsored-by-the-unadilla-rotary-club/
LOCATION:NY
END:VEVENT
END:VCALENDAR